BEGIN:VCALENDAR
VERSION:2.0
PRODID:-//Rotterdam White Scars - ECPv6.15.16//NONSGML v1.0//EN
CALSCALE:GREGORIAN
METHOD:PUBLISH
X-ORIGINAL-URL:https://rotterdamwhitescars.nl
X-WR-CALDESC:Events for Rotterdam White Scars
REFRESH-INTERVAL;VALUE=DURATION:PT1H
X-Robots-Tag:noindex
X-PUBLISHED-TTL:PT1H
BEGIN:VTIMEZONE
TZID:Europe/Amsterdam
BEGIN:DAYLIGHT
TZOFFSETFROM:+0100
TZOFFSETTO:+0200
TZNAME:CEST
DTSTART:20220327T010000
END:DAYLIGHT
BEGIN:STANDARD
TZOFFSETFROM:+0200
TZOFFSETTO:+0100
TZNAME:CET
DTSTART:20221030T010000
END:STANDARD
BEGIN:DAYLIGHT
TZOFFSETFROM:+0100
TZOFFSETTO:+0200
TZNAME:CEST
DTSTART:20230326T010000
END:DAYLIGHT
BEGIN:STANDARD
TZOFFSETFROM:+0200
TZOFFSETTO:+0100
TZNAME:CET
DTSTART:20231029T010000
END:STANDARD
BEGIN:DAYLIGHT
TZOFFSETFROM:+0100
TZOFFSETTO:+0200
TZNAME:CEST
DTSTART:20240331T010000
END:DAYLIGHT
BEGIN:STANDARD
TZOFFSETFROM:+0200
TZOFFSETTO:+0100
TZNAME:CET
DTSTART:20241027T010000
END:STANDARD
END:VTIMEZONE
BEGIN:VEVENT
DTSTART;TZID=Europe/Amsterdam:20230611T090000
DTEND;TZID=Europe/Amsterdam:20230611T190000
DTSTAMP:20260420T175605
CREATED:20220930T092123Z
LAST-MODIFIED:20230207T175646Z
UID:906-1686474000-1686510000@rotterdamwhitescars.nl
SUMMARY:Middle Earth SBG:'Good vs. Evil'
DESCRIPTION:Hi Rotterdam White Scar fans! \nOn Sunday we will have a live event for Middle-Earth SBG.\n4 rounds of awesome games. \nLocation: Scouting De Ruyter\, Prinsemolenpad 52\, 3054XM Rotterdam \nTicket options:\n€ 25\,00 EARLY BIRD (Patreon exclusive) – from 07-04-2023\n€ 25\,00 REGULAR – from 12-04-2023 \nFood and drinks:\nLunch is included within the price. Drinks are available at the location for a fair price. \n\nJoin our Patreon\nfor Early Bird Sales.
URL:https://rotterdamwhitescars.nl/event/good-vs-evil/
LOCATION:Scouting “De Ruyter”\, Prinsemolenpad 52\, Rotterdam\, Zuid- Holland\, 3054 XM\, Nederland
CATEGORIES:Middle Earth Strategy Battle Game
ATTACH;FMTTYPE=image/jpeg:https://rotterdamwhitescars.nl/wp-content/uploads/2023/02/GVE-poster.jpg
END:VEVENT
END:VCALENDAR