BEGIN:VCALENDAR
VERSION:2.0
PRODID:-//Rotterdam White Scars - ECPv6.15.16//NONSGML v1.0//EN
CALSCALE:GREGORIAN
METHOD:PUBLISH
X-ORIGINAL-URL:https://rotterdamwhitescars.nl
X-WR-CALDESC:Events for Rotterdam White Scars
REFRESH-INTERVAL;VALUE=DURATION:PT1H
X-Robots-Tag:noindex
X-PUBLISHED-TTL:PT1H
BEGIN:VTIMEZONE
TZID:Europe/Amsterdam
BEGIN:DAYLIGHT
TZOFFSETFROM:+0100
TZOFFSETTO:+0200
TZNAME:CEST
DTSTART:20220327T010000
END:DAYLIGHT
BEGIN:STANDARD
TZOFFSETFROM:+0200
TZOFFSETTO:+0100
TZNAME:CET
DTSTART:20221030T010000
END:STANDARD
BEGIN:DAYLIGHT
TZOFFSETFROM:+0100
TZOFFSETTO:+0200
TZNAME:CEST
DTSTART:20230326T010000
END:DAYLIGHT
BEGIN:STANDARD
TZOFFSETFROM:+0200
TZOFFSETTO:+0100
TZNAME:CET
DTSTART:20231029T010000
END:STANDARD
BEGIN:DAYLIGHT
TZOFFSETFROM:+0100
TZOFFSETTO:+0200
TZNAME:CEST
DTSTART:20240331T010000
END:DAYLIGHT
BEGIN:STANDARD
TZOFFSETFROM:+0200
TZOFFSETTO:+0100
TZNAME:CET
DTSTART:20241027T010000
END:STANDARD
END:VTIMEZONE
BEGIN:VEVENT
DTSTART;TZID=Europe/Amsterdam:20231008T100000
DTEND;TZID=Europe/Amsterdam:20231008T180000
DTSTAMP:20260420T130624
CREATED:20220930T092356Z
LAST-MODIFIED:20230725T115803Z
UID:910-1696759200-1696788000@rotterdamwhitescars.nl
SUMMARY:Middle Earth SBGBattle Companies:'Fornost in Flames'
DESCRIPTION:Hi all! \nWe are very excited to announce that the Rotterdam White Scars YouTube channel will be hosting our very first Battle Companies Narrative one day event! \nDate: Sunday 8th of October 2023\nLocation: Scouting De Ruyter\, Prinsemolenpad 52 3054XM Rotterdam\nCapacity: 16 players \nStart of sale:\nEarly Bird Tickets: 02-06-2023 (Exclusive for Veterans and Lieutenant Patrons)\nRegular Tickets: 07-06-2023 \nSo SAVE THE DATE and see you there!\nIf you have any questions\, please get in touch \n\n\nJoin our Patreon\nfor Early Bird Sales.
URL:https://rotterdamwhitescars.nl/event/battle-companies/
LOCATION:Scouting De Ruyter\, Prinsemolenpad 52\, Rotterdam\, Zuid- Holland\, 3054 XM\, Netherlands
CATEGORIES:Middle Earth Strategy Battle Game
ATTACH;FMTTYPE=image/jpeg:https://rotterdamwhitescars.nl/wp-content/uploads/2023/02/Battle-Companies-Poster.jpg
END:VEVENT
END:VCALENDAR