BEGIN:VCALENDAR
VERSION:2.0
PRODID:-//Rotterdam White Scars - ECPv6.15.16//NONSGML v1.0//EN
CALSCALE:GREGORIAN
METHOD:PUBLISH
X-WR-CALNAME:Rotterdam White Scars
X-ORIGINAL-URL:https://rotterdamwhitescars.nl
X-WR-CALDESC:Events for Rotterdam White Scars
REFRESH-INTERVAL;VALUE=DURATION:PT1H
X-Robots-Tag:noindex
X-PUBLISHED-TTL:PT1H
BEGIN:VTIMEZONE
TZID:Europe/Amsterdam
BEGIN:DAYLIGHT
TZOFFSETFROM:+0100
TZOFFSETTO:+0200
TZNAME:CEST
DTSTART:20230326T010000
END:DAYLIGHT
BEGIN:STANDARD
TZOFFSETFROM:+0200
TZOFFSETTO:+0100
TZNAME:CET
DTSTART:20231029T010000
END:STANDARD
BEGIN:DAYLIGHT
TZOFFSETFROM:+0100
TZOFFSETTO:+0200
TZNAME:CEST
DTSTART:20240331T010000
END:DAYLIGHT
BEGIN:STANDARD
TZOFFSETFROM:+0200
TZOFFSETTO:+0100
TZNAME:CET
DTSTART:20241027T010000
END:STANDARD
BEGIN:DAYLIGHT
TZOFFSETFROM:+0100
TZOFFSETTO:+0200
TZNAME:CEST
DTSTART:20250330T010000
END:DAYLIGHT
BEGIN:STANDARD
TZOFFSETFROM:+0200
TZOFFSETTO:+0100
TZNAME:CET
DTSTART:20251026T010000
END:STANDARD
END:VTIMEZONE
BEGIN:VEVENT
DTSTART;TZID=Europe/Amsterdam:20240407T094500
DTEND;TZID=Europe/Amsterdam:20240407T181500
DTSTAMP:20260420T041212
CREATED:20240115T093727Z
LAST-MODIFIED:20240118T124459Z
UID:1608-1712483100-1712513700@rotterdamwhitescars.nl
SUMMARY:MIDDLE EARTH SBG:Singles
DESCRIPTION:Date: Sunday 7th of april\nLocation:Dam 24\, Alblasserdam\, South Holland 2952 AB \n\nGet your tickets here\n\n\nPlayers Information\n\n\nJoin us on Patreon
URL:https://rotterdamwhitescars.nl/event/middle-earth-sbgsingles/
LOCATION:Grand Café Het Wapen van Alblasserdam\, Dam 24\, Alblasserdam\, Zuid- Holland\, 2952 AB\, Nederland
CATEGORIES:Middle Earth Strategy Battle Game
ATTACH;FMTTYPE=image/webp:https://rotterdamwhitescars.nl/wp-content/uploads/2024/01/MESBG_Single_2024.webp
END:VEVENT
END:VCALENDAR