BEGIN:VCALENDAR
VERSION:2.0
PRODID:-//Rotterdam White Scars - ECPv6.15.16//NONSGML v1.0//EN
CALSCALE:GREGORIAN
METHOD:PUBLISH
X-WR-CALNAME:Rotterdam White Scars
X-ORIGINAL-URL:https://rotterdamwhitescars.nl
X-WR-CALDESC:Events for Rotterdam White Scars
REFRESH-INTERVAL;VALUE=DURATION:PT1H
X-Robots-Tag:noindex
X-PUBLISHED-TTL:PT1H
BEGIN:VTIMEZONE
TZID:Europe/Amsterdam
BEGIN:DAYLIGHT
TZOFFSETFROM:+0100
TZOFFSETTO:+0200
TZNAME:CEST
DTSTART:20250330T010000
END:DAYLIGHT
BEGIN:STANDARD
TZOFFSETFROM:+0200
TZOFFSETTO:+0100
TZNAME:CET
DTSTART:20251026T010000
END:STANDARD
BEGIN:DAYLIGHT
TZOFFSETFROM:+0100
TZOFFSETTO:+0200
TZNAME:CEST
DTSTART:20260329T010000
END:DAYLIGHT
BEGIN:STANDARD
TZOFFSETFROM:+0200
TZOFFSETTO:+0100
TZNAME:CET
DTSTART:20261025T010000
END:STANDARD
BEGIN:DAYLIGHT
TZOFFSETFROM:+0100
TZOFFSETTO:+0200
TZNAME:CEST
DTSTART:20270328T010000
END:DAYLIGHT
BEGIN:STANDARD
TZOFFSETFROM:+0200
TZOFFSETTO:+0100
TZNAME:CET
DTSTART:20271031T010000
END:STANDARD
END:VTIMEZONE
BEGIN:VEVENT
DTSTART;TZID=Europe/Amsterdam:20261121T100000
DTEND;TZID=Europe/Amsterdam:20261122T190000
DTSTAMP:20260420T220726
CREATED:20260102T115345Z
LAST-MODIFIED:20260314T215537Z
UID:2928-1795255200-1795374000@rotterdamwhitescars.nl
SUMMARY:MESBG - Grand Tournament
DESCRIPTION:Hi all!We are very excited to announce that the Rotterdam White Scars YouTube channel will be hosting the Middle-Earth Dutch Grand Tournament once more! Date: Saturday 18th & 19th of November 2023Location: Het Wapen van Alblasserdam Dam 24\, 2952 AB Alblasserdam Start of sale:Early Bird Tickets: 04/08/2023 (Exclusive for Veterans and Lieutenant Patrons)Regular Tickets: 09/08/2023 So SAVE THE DATE and see you there!If you have any questions\, please get in touch 								\n				\n					\n		\n				\n			\n						\n				\n							\n			\n		\n						\n				\n				\n				\n									\n					\n						\n									Join our Patreonfor Early Bird Sales.
URL:https://rotterdamwhitescars.nl/event/mesbg-grand-tournament/
LOCATION:Grand Café Het Wapen van Alblasserdam\, Dam 24\, Alblasserdam\, Zuid- Holland\, 2952 AB\, Nederland
CATEGORIES:Middle Earth Strategy Battle Game
ATTACH;FMTTYPE=image/jpeg:https://rotterdamwhitescars.nl/wp-content/uploads/2022/07/MESBG.jpg
END:VEVENT
END:VCALENDAR