BEGIN:VCALENDAR
VERSION:2.0
PRODID:-//Rotterdam White Scars - ECPv6.15.16//NONSGML v1.0//EN
CALSCALE:GREGORIAN
METHOD:PUBLISH
X-WR-CALNAME:Rotterdam White Scars
X-ORIGINAL-URL:https://rotterdamwhitescars.nl
X-WR-CALDESC:Events for Rotterdam White Scars
REFRESH-INTERVAL;VALUE=DURATION:PT1H
X-Robots-Tag:noindex
X-PUBLISHED-TTL:PT1H
BEGIN:VTIMEZONE
TZID:Europe/Amsterdam
BEGIN:DAYLIGHT
TZOFFSETFROM:+0100
TZOFFSETTO:+0200
TZNAME:CEST
DTSTART:20220327T010000
END:DAYLIGHT
BEGIN:STANDARD
TZOFFSETFROM:+0200
TZOFFSETTO:+0100
TZNAME:CET
DTSTART:20221030T010000
END:STANDARD
BEGIN:DAYLIGHT
TZOFFSETFROM:+0100
TZOFFSETTO:+0200
TZNAME:CEST
DTSTART:20230326T010000
END:DAYLIGHT
BEGIN:STANDARD
TZOFFSETFROM:+0200
TZOFFSETTO:+0100
TZNAME:CET
DTSTART:20231029T010000
END:STANDARD
BEGIN:DAYLIGHT
TZOFFSETFROM:+0100
TZOFFSETTO:+0200
TZNAME:CEST
DTSTART:20240331T010000
END:DAYLIGHT
BEGIN:STANDARD
TZOFFSETFROM:+0200
TZOFFSETTO:+0100
TZNAME:CET
DTSTART:20241027T010000
END:STANDARD
END:VTIMEZONE
BEGIN:VEVENT
DTSTART;TZID=Europe/Amsterdam:20230507T090000
DTEND;TZID=Europe/Amsterdam:20230507T200000
DTSTAMP:20260422T125021
CREATED:20220930T091935Z
LAST-MODIFIED:20230315T201213Z
UID:904-1683450000-1683489600@rotterdamwhitescars.nl
SUMMARY:Age of Sigmar:'Double Trouble'
DESCRIPTION:Hi all!\nWe are very excited to announce that the Rotterdam White Scars YouTube channel will be hosting our first 2 x 1000 points Age of Sigmar doubles Tournament! \nDate:Sunday 7th of May 2023\nLocation: Het Wapen van Alblasserdam\, Dam 24\, 2952 AB Alblasserdam \nStart of sale:\nEarly Bird Tickets: 03/03/2023 Exclusive for Veterans and Lieutenant PatronsRegular Tickets: 08/03/2023 So SAVE THE DATE and see you there! \nIf you have any questions\, please get in touch. \n\nGet your tickets here\n\n\nPlayers information\n\n\nJoin us on Patreon
URL:https://rotterdamwhitescars.nl/event/double-trouble/
LOCATION:Grand Café Het Wapen van Alblasserdam\, Dam 24\, Alblasserdam\, Zuid- Holland\, 2952 AB\, Nederland
CATEGORIES:Warhammer: Age of Sigmar
ATTACH;FMTTYPE=image/jpeg:https://rotterdamwhitescars.nl/wp-content/uploads/2023/02/Double-Trouble-poster.jpg
END:VEVENT
END:VCALENDAR