BEGIN:VCALENDAR
VERSION:2.0
PRODID:-//Rotterdam White Scars - ECPv6.15.16//NONSGML v1.0//EN
CALSCALE:GREGORIAN
METHOD:PUBLISH
X-WR-CALNAME:Rotterdam White Scars
X-ORIGINAL-URL:https://rotterdamwhitescars.nl
X-WR-CALDESC:Events for Rotterdam White Scars
REFRESH-INTERVAL;VALUE=DURATION:PT1H
X-Robots-Tag:noindex
X-PUBLISHED-TTL:PT1H
BEGIN:VTIMEZONE
TZID:Europe/Amsterdam
BEGIN:DAYLIGHT
TZOFFSETFROM:+0100
TZOFFSETTO:+0200
TZNAME:CEST
DTSTART:20220327T010000
END:DAYLIGHT
BEGIN:STANDARD
TZOFFSETFROM:+0200
TZOFFSETTO:+0100
TZNAME:CET
DTSTART:20221030T010000
END:STANDARD
BEGIN:DAYLIGHT
TZOFFSETFROM:+0100
TZOFFSETTO:+0200
TZNAME:CEST
DTSTART:20230326T010000
END:DAYLIGHT
BEGIN:STANDARD
TZOFFSETFROM:+0200
TZOFFSETTO:+0100
TZNAME:CET
DTSTART:20231029T010000
END:STANDARD
BEGIN:DAYLIGHT
TZOFFSETFROM:+0100
TZOFFSETTO:+0200
TZNAME:CEST
DTSTART:20240331T010000
END:DAYLIGHT
BEGIN:STANDARD
TZOFFSETFROM:+0200
TZOFFSETTO:+0100
TZNAME:CET
DTSTART:20241027T010000
END:STANDARD
END:VTIMEZONE
BEGIN:VEVENT
DTSTART;TZID=Europe/Amsterdam:20230827T090000
DTEND;TZID=Europe/Amsterdam:20230827T210000
DTSTAMP:20260422T082604
CREATED:20220930T092241Z
LAST-MODIFIED:20230507T162242Z
UID:908-1693126800-1693170000@rotterdamwhitescars.nl
SUMMARY:Age of Sigmar:'Cities of Sigmar III'
DESCRIPTION:Hi all! \nWe are very excited to announce that the Rotterdam White Scars YouTube channel will be hosting another big 2000 points Age of Sigmar singles Tournament! \nDate: 27th of August 2023\nLocation: Dam 24\, Alblasserdam\, South Holland 2952 AB \nSo SAVE THE DATE and see you there! \nIf you have any questions\, please get in touch \nJoin our Patreon for Early Bird Sales.So you won’t miss out the next time. \n\nGet your tickets here\n\n\nInformation for players\n\n\nJoin us on Patreon
URL:https://rotterdamwhitescars.nl/event/cities-of-sigmar-iii/
LOCATION:Grand Café Het Wapen van Alblasserdam\, Dam 24\, Alblasserdam\, Zuid- Holland\, 2952 AB\, Nederland
CATEGORIES:Warhammer: Age of Sigmar
ATTACH;FMTTYPE=image/jpeg:https://rotterdamwhitescars.nl/wp-content/uploads/2023/02/COS3-poster.jpg
END:VEVENT
END:VCALENDAR