BEGIN:VCALENDAR
VERSION:2.0
PRODID:-//Rotterdam White Scars - ECPv6.15.16//NONSGML v1.0//EN
CALSCALE:GREGORIAN
METHOD:PUBLISH
X-WR-CALNAME:Rotterdam White Scars
X-ORIGINAL-URL:https://rotterdamwhitescars.nl
X-WR-CALDESC:Events for Rotterdam White Scars
REFRESH-INTERVAL;VALUE=DURATION:PT1H
X-Robots-Tag:noindex
X-PUBLISHED-TTL:PT1H
BEGIN:VTIMEZONE
TZID:Europe/Amsterdam
BEGIN:DAYLIGHT
TZOFFSETFROM:+0100
TZOFFSETTO:+0200
TZNAME:CEST
DTSTART:20240331T010000
END:DAYLIGHT
BEGIN:STANDARD
TZOFFSETFROM:+0200
TZOFFSETTO:+0100
TZNAME:CET
DTSTART:20241027T010000
END:STANDARD
BEGIN:DAYLIGHT
TZOFFSETFROM:+0100
TZOFFSETTO:+0200
TZNAME:CEST
DTSTART:20250330T010000
END:DAYLIGHT
BEGIN:STANDARD
TZOFFSETFROM:+0200
TZOFFSETTO:+0100
TZNAME:CET
DTSTART:20251026T010000
END:STANDARD
BEGIN:DAYLIGHT
TZOFFSETFROM:+0100
TZOFFSETTO:+0200
TZNAME:CEST
DTSTART:20260329T010000
END:DAYLIGHT
BEGIN:STANDARD
TZOFFSETFROM:+0200
TZOFFSETTO:+0100
TZNAME:CET
DTSTART:20261025T010000
END:STANDARD
END:VTIMEZONE
BEGIN:VEVENT
DTSTART;TZID=Europe/Amsterdam:20250622T100000
DTEND;TZID=Europe/Amsterdam:20250622T170000
DTSTAMP:20260421T020130
CREATED:20250115T081730Z
LAST-MODIFIED:20250319T120307Z
UID:2319-1750586400-1750611600@rotterdamwhitescars.nl
SUMMARY:Age of Sigmar - Double Trouble IV
DESCRIPTION:Get your tickets here.\nWarm lunch included.
URL:https://rotterdamwhitescars.nl/event/aos-double-trouble-iv/
LOCATION:Grand Café Het Wapen van Alblasserdam\, Dam 24\, Alblasserdam\, Zuid- Holland\, 2952 AB\, Nederland
CATEGORIES:Warhammer: Age of Sigmar
ATTACH;FMTTYPE=image/jpeg:https://rotterdamwhitescars.nl/wp-content/uploads/2025/01/AOS-Double-Trouble-IV.jpeg
END:VEVENT
END:VCALENDAR